Workbook

Sheet Forsiden
A1: OPPLYSNINGSSKJEMA
A2: KONSERTER OG BAKGRUNNSMUSIKK
A3: 2015
A5: Klubber og spillesteder i Norske Konsertarrangører
A6: Arrangørens navn
A7: Adresse
A8: Postnr
A9: Sted
A10: Kontaktperson
A11: E-post
A12: Telefon (dagtid)
A13: Mobil
A16: 1. SMÅ KONSERTER 2015
A18: Med små konserter menes klubbkonserter der brutto billettinntekt utgjør under kr 50.000 per konsert,
A19: eller klubbkonserter uten billettinntekt med mindre enn 500 besøkende.
... A22: der festivalens totale brutto billettinntekt er under kr 50.000. Man skal da betale vederlag pr. festivaldag.
A24: Antall konserter | B24: ='Små konserter 2015'!D82 -> 1e-11
A25: Antall besøkende | B25: ='Små konserter 2015'!E70 -> 0
A26: Gjennomsnitt besøk pr. konsert | B26: ='Små konserter 2015'!D78 -> 0
A28: Gjennomsnitt billettinntekt pr. konsert | C28: ='Små konserter 2015'!D75 -> 0
A29: Total brutto billettinntekt | C29: ='Små konserter 2015'!D74 -> 0
A30: Tono-vederlag (315,- / konsert) | D30: =B24*315 -> 3.15e-09
A34: 2.STORE KONSERTER 2015
A36: Med store konserter menes klubbkonserter der brutto billettinntekt pr. konsert utgjør over kr 50.000.
A37: Med store konserter menes også festivaler som arrangeres av klubben,
A38: der festivalens samlede brutto billettinntekt utgjør over kr 50.000.
A40: Vederlag for store konserter er 3 % av samlet billettinntekt for alle store konsertene
A42: Antall konserter | B42: ='Store konserter 2015'!D37 -> 1e-15
A43: Antall besøkende | B43: ='Store konserter 2015'!E35 -> 0
A44: Gjennomsnitt besøk pr. konsert | B44: ='Store konserter 2015'!D43 -> 0
A46: Gjennomsnitt billettinntekt pr. konsert | C46: ='Store konserter 2015'!D40 -> 0
A47: Total brutto billettinntekt | C47: ='Store konserter 2015'!D39 -> 0
A48: TONO-vederlag (3 % av billettinntekt) | D48: =C47*3% -> 0
A52: 3. STORE GRATISKONSERTER 2015
A54: Ved konserter/festivaler med fri entré og over 500 besøkende skal det betales kr. 2 per besøkende
A56: Antall konserter | B56: ='Store gratiskonserter'!D44 -> 1e-10
A57: Antall besøkende | B57: ='Store gratiskonserter'!D45 -> 0
A58: Gjennomsnitt besøk pr. konsert | B58: ='Store gratiskonserter'!D47 -> 0
A60: TONO-vederlag (2,- pr. besøkende) | D60: =B57*2 -> 0
A64: 4. BAKGRUNNSMUSIKK 2015
...

Sheet Små konserter 2015
A1: NB: Totalt antall konserter blir summert i bunn av dette arket. En rad telles som en konsert. Fyll derfor inn alle artister per konsert i samme celle. Ved ulike billettpristyper, før en linje per pris. La da "Artist/utøver"-feltet stå tomt. Dersom det er feil i summeringen, kan riktig antall konserter endres nederst i arket.
B2: Arrangør: | C2: =Forsiden!B6 -> 0
A3: Dato | B3: Lokale / Spillested | C3: Artist/utøver per konsert | D3: Billettpris | E3: Ant. Besøkende | F3: Brutto billettinntekt | G3: Kommentar
F4: =SUM(D4*E4) -> 0
F5: =SUM(D5*E5) -> 0
F6: =SUM(D6*E6) -> 0
F7: =SUM(D7*E7) -> 0
F8: =SUM(D8*E8) -> 0
F9: =SUM(D9*E9) -> 0
F10: =SUM(D10*E10) -> 0
F11: =SUM(D11*E11) -> 0
F12: =SUM(D12*E12) -> 0
F13: =SUM(D13*E13) -> 0
F14: =SUM(D14*E14) -> 0
F15: =SUM(D15*E15) -> 0
... F69: =SUM(D69*E69) -> 0
A70: Oppsumert | E70: =SUM(E4:E69) -> 0 | F70: =SUM(F4:F69) -> 0
C72: Antall konserter (fyll ut antall) | D72: =COUNTA(C4:C69)+0.00000000001 -> 1e-11 | E72: Kan endres ved behov
C74: Totalt billettinntekt | D74: =F70 -> 0
C75: Gj.snitt billettinntekt | D75: =SUM(D74/D72) -> 0
C77: Totalt antall besøkende | D77: =E70 -> 0
C78: Gj.snitt besøkende | D78: =SUM(E70/D72) -> 0
C81: Vederlag TONO små konserter
C82: Totalt antall små konserter | D82: =D72 -> 1e-11
C83: Antall x 315,- | D83: =D82*315 -> 3.15e-09

Sheet Store konserter 2015
A1: NB: Totalt antall konserter blir summert i bunn av dette arket. En rad telles som en konsert. Fyll derfor inn alle artister per konsert i samme celle. Ved ulike billettpristyper, før en linje per pris. La da "Artist/utøver"-feltet stå tomt. Dersom det er feil i summeringen, kan riktig antall konserter endres nederst i arket.
B2: Arrangør: | C2: =Forsiden!B6 -> 0
A3: Dato | B3: Lokale | C3: Artist/utøver per konsert | D3: Billettpris | E3: Ant. Besøkende | F3: Brutto billettinntekt | G3: Kommentar
F4: =D4*E4 -> 0
F5: =D5*E5 -> 0
F6: =D6*E6 -> 0
F7: =D7*E7 -> 0
F8: =D8*E8 -> 0
F9: =D9*E9 -> 0
F10: =D10*E10 -> 0
F11: =D11*E11 -> 0
F12: =D12*E12 -> 0
F13: =D13*E13 -> 0
F14: =D14*E14 -> 0
F15: =D15*E15 -> 0
... F34: =D34*E34 -> 0
A35: Oppsumert: | E35: =SUM(E4:E34) -> 0 | F35: =SUM(F4:F34) -> 0
C37: Antall konserter | D37: =COUNTA(C4:C34)+0.000000000000001 -> 1e-15 | E37: Kan endres ved behov
C39: Totalt billettinntekt | D39: =F35 -> 0
C40: Gj.snitt billettinntekt | D40: =SUM(D39/D37) -> 0
C42: Totalt antall besøkende | D42: =E35 -> 0
C43: Gj.snitt besøkende | D43: =SUM(D42/D37) -> 0
C45: Vederlag TONO store konserter
C46: Brutto billettinntekt | D46: =D39 -> 0
C47: TONO-vederlag (billettinntekt x 3%) | D47: =D46*3% -> 0
D70: ='Store konserter 2015'!D37=COUNTA(C4:C67) -> FALSE

Sheet Store gratiskonserter
A1: NB: Totalt antall konserter blir summert i bunn av dette arket. En rad telles som en konsert. Fyll derfor inn alle artister per konsert i samme celle.
B2: Arrangør: | C2: =Forsiden!B6 -> 0
A3: Dato | B3: Lokale | C3: Artist/utøver | D3: Ant. besøkende | E3: Kommentar
C42: =SUM(C4:C41) -> 0 | D42: =SUM(D4:D41) -> 0
A43: Oppsumert
C44: Antall konserter u/billettinntekt | D44: =COUNTA(C4:C41)+0.0000000001 -> 1e-10 | E44: Kan endres ved behov
C45: Totalt antall besøkende | D45: =D42 -> 0
C47: Gj.snitt besøkende | D47: =SUM(D45/D44) -> 0
C50: Vederlag TONO gratiskonserter o/500
C51: Totalt antall besøkende | D51: =D45 -> 0
C52: TONO-vederlag (antall x 2,-) | D52: =D51*2 -> 0

Sheet Bakgrunnsmusikk
A1: Arrangør: | B1: =Forsiden!B6 -> 0
A5: Antall åpningsdager:
A6: - Antall konsertdager:
A7: = Antall dager med bakgrunnsmusikk: | B7: =SUM(B5-B6) -> 0
A9: Vederlag TONO bakgrunnsmusikk
A10: Åpningsdager u/konsert | B10: =B7 -> 0
A11: TONO-vederlag (15,- pr. dag) | B11: =B10*15 -> 0
